BEGIN:VCALENDAR
VERSION:2.0
PRODID:-//wp-events-plugin.com//7.2.3.1//EN
TZID:Europe/Berlin
X-WR-TIMEZONE:Europe/Berlin
BEGIN:VEVENT
UID:16@karneval-verberg.de
DTSTART;TZID=Europe/Berlin:20250301T111100
DTEND;TZID=Europe/Berlin:20250301T140000
DTSTAMP:20241008T095501Z
URL:https://karneval-verberg.de/veranstaltungen/kinderkarnevalszug-verberg
 /
SUMMARY:Kinder- u. Familienkarnevalszug Verberg
DESCRIPTION:Krefelds friedlicher Karnevalszug für die ganze Familie.
ATTACH;FMTTYPE=image/jpeg:https://karneval-verberg.de/wp-content/uploads/2
 024/04/24628-e1728330792652.jpg
END:VEVENT
BEGIN:VTIMEZONE
TZID:Europe/Berlin
X-LIC-LOCATION:Europe/Berlin
BEGIN:STANDARD
DTSTART:20241027T020000
TZOFFSETFROM:+0200
TZOFFSETTO:+0100
TZNAME:CET
END:STANDARD
END:VTIMEZONE
END:VCALENDAR