BEGIN:VCALENDAR
VERSION:2.0
PRODID:-//wp-events-plugin.com//7.2.3.1//EN
TZID:Europe/Berlin
X-WR-TIMEZONE:Europe/Berlin
BEGIN:VEVENT
UID:13@karneval-verberg.de
DTSTART;TZID=Europe/Berlin:20250201T193000
DTEND;TZID=Europe/Berlin:20250201T233000
DTSTAMP:20240508T162254Z
URL:https://karneval-verberg.de/veranstaltungen/kostuemsitzung-2/
SUMMARY:Kostümsitzung
DESCRIPTION:Sitzungspräsidentin Tanja Thäsler und Sitzungspräsident Chri
 stoph Mühlenberg führen durch ein Programm voller närrischer Höchstlei
 stungen. Eintrittskarten für diese Veranstaltung können unter folgendem 
 Link online gebucht werden: https://karneval-verberg.de/veranstaltungen/ka
 rtenbestellung
ATTACH;FMTTYPE=image/jpeg:https://karneval-verberg.de/wp-content/uploads/2
 023/07/Kostuemsitzung.jpg
LOCATION:Stadtwaldhaus\, Hüttenallee 108\, Krefeld\, NRW\, 47800\, NRW\, D
 eutschland
GEO:51.352034;6.586847
X-APPLE-STRUCTURED-LOCATION;VALUE=URI;X-ADDRESS=Hüttenallee 108\, Krefeld\
 , NRW\, 47800\, NRW\, Deutschland;X-APPLE-RADIUS=100;X-TITLE=Stadtwaldhaus
 :geo:51.352034,6.586847
END:VEVENT
BEGIN:VTIMEZONE
TZID:Europe/Berlin
X-LIC-LOCATION:Europe/Berlin
BEGIN:STANDARD
DTSTART:20241027T020000
TZOFFSETFROM:+0200
TZOFFSETTO:+0100
TZNAME:CET
END:STANDARD
END:VTIMEZONE
END:VCALENDAR